BEGIN:VCALENDAR
VERSION:2.0
PRODID:-//ChamberMaster//Event Calendar 2.0//EN
METHOD:PUBLISH
X-PUBLISHED-TTL:P1H
REFRESH-INTERVAL:P1H
CALSCALE:GREGORIAN
BEGIN:VTIMEZONE
TZID:America/Chicago
BEGIN:DAYLIGHT
RRULE:FREQ=YEARLY;BYMONTH=3;BYDAY=2SU
DTSTART:20070101T000000
TZOFFSETFROM:-0600
TZOFFSETTO:-0500
TZNAME:Central Daylight Time
END:DAYLIGHT
BEGIN:STANDARD
RRULE:FREQ=YEARLY;BYMONTH=11;BYDAY=1SU
DTSTART:20070101T000000
TZOFFSETFROM:-0500
TZOFFSETTO:-0600
TZNAME:Central Standard Time
END:STANDARD
END:VTIMEZONE
BEGIN:VEVENT
DTSTART;TZID=America/Chicago:20260423T190000
DTEND;TZID=America/Chicago:20260423T203000
X-MICROSOFT-CDO-ALLDAYEVENT:FALSE
SUMMARY:Economic Forum
DESCRIPTION:Join Austin Business Journa'ls Chief Editor Colin Pope and Senior Staff Writer Justin Sayer at the Sereno Estate as they discuss current trends and future projections for growth along Austin's I35 corridor from Salado to Austin. Tickets are free and available at eventbrite.com but are required for attendance. A mixer will follow the event. Seating is limited. For questions call 512-422-0222 or write to Info@serenofarms.com Date: April 23 Time: 7PM to 830 PMRegister Here!
X-ALT-DESC;FMTTYPE=text/html:<!DOCTYPE html><html><head><title></title></head><body aria-disabled="false"><p>Join Austin Business Journa&#39\;ls Chief Editor Colin Pope and Senior Staff Writer Justin Sayer at the Sereno Estate as they discuss current trends and future projections for growth along Austin&#39\;s I35 corridor from Salado to Austin. Tickets are free and available at eventbrite.com but are required for attendance. A mixer will follow the event. Seating is limited. For questions call 512-422-0222 or write to Info@serenofarms.com Date: April 23 Time: 7PM to 830 PM</p><p><a fr-original-style="" href="https://www.eventbrite.com/e/forecasting-growth-from-salado-to-austin-tickets-1983104408670?aff=oddtdtcreator&fbclid=IwY2xjawQtTXhleHRuA2FlbQIxMABicmlkETFNb3FlSnc4aHAxTUhRZG9vc3J0YwZhcHBfaWQQMjIyMDM5MTc4ODIwMDg5MgABHkScjbk-JVDlTrCH-fID2Su1cA5-k-bByKtunHIIgHehEyXsXuezqI6K0r6g_aem_dLUaSDjLetLPvgKatPHepA" style="-webkit-user-select: auto\;"><span style="color: rgb(41\, 105\, 176)\;"><u><strong fr-original-style="" style="font-weight: 700\;">Register Here!</strong></u></span></a></p><p><br></p><p><br></p></body></html>
LOCATION:8989 West FM 487 Florence TX 76527
UID:e.2205.1400302
SEQUENCE:3
DTSTAMP:20260422T175117Z
URL:https://business.salado.com/calendar/Details/economic-forum-1654588?sourceTypeId=Hub
END:VEVENT
END:VCALENDAR
